BEGIN:VCALENDAR
VERSION:2.0
PRODID:-//APAS - ECPv6.0.5//NONSGML v1.0//EN
CALSCALE:GREGORIAN
METHOD:PUBLISH
X-ORIGINAL-URL:https://apas.com.br
X-WR-CALDESC:Eventos para APAS
REFRESH-INTERVAL;VALUE=DURATION:PT1H
X-Robots-Tag:noindex
X-PUBLISHED-TTL:PT1H
BEGIN:VTIMEZONE
TZID:America/Sao_Paulo
BEGIN:STANDARD
TZOFFSETFROM:-0300
TZOFFSETTO:-0300
TZNAME:-03
DTSTART:20240101T000000
END:STANDARD
END:VTIMEZONE
BEGIN:VEVENT
DTSTART;VALUE=DATE:20240827
DTEND;VALUE=DATE:20240828
DTSTAMP:20260424T083344
CREATED:20240201T193116Z
LAST-MODIFIED:20240731T173924Z
UID:13532-1724716800-1724803199@apas.com.br
SUMMARY:REUNIÃO DO CONSELHO DE ADMINISTRAÇÃO
DESCRIPTION:
URL:https://apas.com.br/evento/reuniao-do-conselho-de-administracao-10/
LOCATION:APAS\, R. Pio XI\, 1200 - Alto da Lapa\, São Paulo\, São Paulo\, São Paulo\, 05060-001
END:VEVENT
BEGIN:VEVENT
DTSTART;VALUE=DATE:20240827
DTEND;VALUE=DATE:20240828
DTSTAMP:20260424T083344
CREATED:20240201T202833Z
LAST-MODIFIED:20240731T174131Z
UID:13590-1724716800-1724803199@apas.com.br
SUMMARY:EVENTO DE POSSE - NOVA DIRETORIA APAS
DESCRIPTION:
URL:https://apas.com.br/evento/evento-de-posse-3-reunioes-de-diretoria/
LOCATION:APAS\, R. Pio XI\, 1200 - Alto da Lapa\, São Paulo\, São Paulo\, São Paulo\, 05060-001
END:VEVENT
BEGIN:VEVENT
DTSTART;VALUE=DATE:20240827
DTEND;VALUE=DATE:20240830
DTSTAMP:20260424T083344
CREATED:20240201T194803Z
LAST-MODIFIED:20240201T194803Z
UID:13580-1724716800-1724975999@apas.com.br
SUMMARY:CONARH
DESCRIPTION:
URL:https://apas.com.br/evento/conarh/
LOCATION:SÃO PAULO
END:VEVENT
END:VCALENDAR