BEGIN:VCALENDAR
VERSION:2.0
PRODID:-//APAS - ECPv6.0.5//NONSGML v1.0//EN
CALSCALE:GREGORIAN
METHOD:PUBLISH
X-ORIGINAL-URL:https://apas.com.br
X-WR-CALDESC:Eventos para APAS
REFRESH-INTERVAL;VALUE=DURATION:PT1H
X-Robots-Tag:noindex
X-PUBLISHED-TTL:PT1H
BEGIN:VTIMEZONE
TZID:America/Sao_Paulo
BEGIN:STANDARD
TZOFFSETFROM:-0300
TZOFFSETTO:-0300
TZNAME:-03
DTSTART:20240101T000000
END:STANDARD
END:VTIMEZONE
BEGIN:VEVENT
DTSTART;VALUE=DATE:20240827
DTEND;VALUE=DATE:20240830
DTSTAMP:20260424T053941
CREATED:20240201T194803Z
LAST-MODIFIED:20240201T194803Z
UID:13580-1724716800-1724975999@apas.com.br
SUMMARY:CONARH
DESCRIPTION:
URL:https://apas.com.br/evento/conarh/
LOCATION:SÃO PAULO
END:VEVENT
BEGIN:VEVENT
DTSTART;VALUE=DATE:20240828
DTEND;VALUE=DATE:20240831
DTSTAMP:20260424T053941
CREATED:20240201T202912Z
LAST-MODIFIED:20240201T202912Z
UID:13592-1724803200-1725062399@apas.com.br
SUMMARY:ANUFOOD ÍNDIA
DESCRIPTION:
URL:https://apas.com.br/evento/anufood-india/
LOCATION:ÍNDIA
END:VEVENT
BEGIN:VEVENT
DTSTART;VALUE=DATE:20240829
DTEND;VALUE=DATE:20240830
DTSTAMP:20260424T053941
CREATED:20240201T202805Z
LAST-MODIFIED:20240201T202805Z
UID:13588-1724889600-1724975999@apas.com.br
SUMMARY:ENCONTRO COM SUPERMERCADISTAS DISTRITAL SÃO PAULO
DESCRIPTION:
URL:https://apas.com.br/evento/encontro-com-supermercadistas-distrital-sao-paulo-4/
LOCATION:DISTRITAL SÃO PAULO
END:VEVENT
BEGIN:VEVENT
DTSTART;VALUE=DATE:20240829
DTEND;VALUE=DATE:20240830
DTSTAMP:20260424T053941
CREATED:20240201T202930Z
LAST-MODIFIED:20240201T202930Z
UID:13595-1724889600-1724975999@apas.com.br
SUMMARY:TREINAMENTO PDI
DESCRIPTION:
URL:https://apas.com.br/evento/treinamento-pdi/
END:VEVENT
BEGIN:VEVENT
DTSTART;VALUE=DATE:20240829
DTEND;VALUE=DATE:20240830
DTSTAMP:20260424T053941
CREATED:20240201T202958Z
LAST-MODIFIED:20240201T202958Z
UID:13597-1724889600-1724975999@apas.com.br
SUMMARY:DIA MUNDIAL DE COMBATE A DESNUTRIÇÃO
DESCRIPTION:
URL:https://apas.com.br/evento/dia-mundial-de-combate-a-desnutricao/
END:VEVENT
END:VCALENDAR