BEGIN:VCALENDAR
VERSION:2.0
PRODID:-//APAS - ECPv6.0.5//NONSGML v1.0//EN
CALSCALE:GREGORIAN
METHOD:PUBLISH
X-WR-CALNAME:APAS
X-ORIGINAL-URL:https://apas.com.br
X-WR-CALDESC:Eventos para APAS
REFRESH-INTERVAL;VALUE=DURATION:PT1H
X-Robots-Tag:noindex
X-PUBLISHED-TTL:PT1H
BEGIN:VTIMEZONE
TZID:America/Sao_Paulo
BEGIN:STANDARD
TZOFFSETFROM:-0300
TZOFFSETTO:-0300
TZNAME:-03
DTSTART:20240101T000000
END:STANDARD
END:VTIMEZONE
BEGIN:VEVENT
DTSTART;TZID=America/Sao_Paulo:20240901T080000
DTEND;TZID=America/Sao_Paulo:20240930T170000
DTSTAMP:20260423T130357
CREATED:20240201T203051Z
LAST-MODIFIED:20240201T203051Z
UID:13602-1725177600-1727715600@apas.com.br
SUMMARY:SETEMBRO AMARELO
DESCRIPTION:
URL:https://apas.com.br/evento/setembro-amarelo/
LOCATION:Geral
END:VEVENT
BEGIN:VEVENT
DTSTART;VALUE=DATE:20240907
DTEND;VALUE=DATE:20240911
DTSTAMP:20260423T130357
CREATED:20240201T203325Z
LAST-MODIFIED:20240201T203325Z
UID:13609-1725667200-1726012799@apas.com.br
SUMMARY:BEAUTY FAIR
DESCRIPTION:
URL:https://apas.com.br/evento/beauty-fair/
LOCATION:SÃO PAULO
END:VEVENT
BEGIN:VEVENT
DTSTART;VALUE=DATE:20240910
DTEND;VALUE=DATE:20240913
DTSTAMP:20260423T130357
CREATED:20240201T203356Z
LAST-MODIFIED:20240201T203356Z
UID:13611-1725926400-1726185599@apas.com.br
SUMMARY:36ª CONVENÇÃO CAPIXABA/ ACAPS TRADE SHOW
DESCRIPTION:
URL:https://apas.com.br/evento/36a-convencao-capixaba-acaps-trade-show/
LOCATION:ESPIRITO SANTO
END:VEVENT
END:VCALENDAR