BEGIN:VCALENDAR
VERSION:2.0
PRODID:-//APAS - ECPv6.0.5//NONSGML v1.0//EN
CALSCALE:GREGORIAN
METHOD:PUBLISH
X-ORIGINAL-URL:https://apas.com.br
X-WR-CALDESC:Eventos para APAS
REFRESH-INTERVAL;VALUE=DURATION:PT1H
X-Robots-Tag:noindex
X-PUBLISHED-TTL:PT1H
BEGIN:VTIMEZONE
TZID:America/Sao_Paulo
BEGIN:STANDARD
TZOFFSETFROM:-0300
TZOFFSETTO:-0300
TZNAME:-03
DTSTART:20240101T000000
END:STANDARD
END:VTIMEZONE
BEGIN:VEVENT
DTSTART;TZID=America/Sao_Paulo:20240901T080000
DTEND;TZID=America/Sao_Paulo:20240930T170000
DTSTAMP:20260420T224527
CREATED:20240201T203051Z
LAST-MODIFIED:20240201T203051Z
UID:13602-1725177600-1727715600@apas.com.br
SUMMARY:SETEMBRO AMARELO
DESCRIPTION:
URL:https://apas.com.br/evento/setembro-amarelo/
LOCATION:Geral
END:VEVENT
BEGIN:VEVENT
DTSTART;VALUE=DATE:20240917
DTEND;VALUE=DATE:20240921
DTSTAMP:20260420T224527
CREATED:20240201T204213Z
LAST-MODIFIED:20240201T204213Z
UID:13629-1726531200-1726876799@apas.com.br
SUMMARY:EQUIPOTEL 2024
DESCRIPTION:
URL:https://apas.com.br/evento/equipotel-2024/
LOCATION:SÃO PAULO
END:VEVENT
BEGIN:VEVENT
DTSTART;VALUE=DATE:20240919
DTEND;VALUE=DATE:20240920
DTSTAMP:20260420T224527
CREATED:20240201T204622Z
LAST-MODIFIED:20240201T204622Z
UID:13635-1726704000-1726790399@apas.com.br
SUMMARY:ENCONTRO COM SUPERMERCADISTAS REGIONAL SÃO JOSÉ DO RIO PRETO
DESCRIPTION:
URL:https://apas.com.br/evento/encontro-com-supermercadistas-regional-sao-jose-do-rio-preto-2/
LOCATION:REGIONAL SJRP
END:VEVENT
BEGIN:VEVENT
DTSTART;VALUE=DATE:20240919
DTEND;VALUE=DATE:20240920
DTSTAMP:20260420T224527
CREATED:20240201T204838Z
LAST-MODIFIED:20240201T204838Z
UID:13637-1726704000-1726790399@apas.com.br
SUMMARY:REUNIÃO DE DIRETORIA REGIONAL
DESCRIPTION:
URL:https://apas.com.br/evento/reuniao-de-diretoria-regional-5/
LOCATION:APAS\, R. Pio XI\, 1200 - Alto da Lapa\, São Paulo\, São Paulo\, São Paulo\, 05060-001
END:VEVENT
BEGIN:VEVENT
DTSTART;VALUE=DATE:20240919
DTEND;VALUE=DATE:20240920
DTSTAMP:20260420T224527
CREATED:20240201T205250Z
LAST-MODIFIED:20240201T205250Z
UID:13639-1726704000-1726790399@apas.com.br
SUMMARY:REUNIÃO DA DIRETORIA DE RESPONSABILIDADE SOCIAL
DESCRIPTION:
URL:https://apas.com.br/evento/reuniao-da-diretoria-de-responsabilidade-social-11/
LOCATION:APAS\, R. Pio XI\, 1200 - Alto da Lapa\, São Paulo\, São Paulo\, São Paulo\, 05060-001
END:VEVENT
END:VCALENDAR