BEGIN:VCALENDAR
VERSION:2.0
PRODID:-//APAS - ECPv6.0.5//NONSGML v1.0//EN
CALSCALE:GREGORIAN
METHOD:PUBLISH
X-WR-CALNAME:APAS
X-ORIGINAL-URL:https://apas.com.br
X-WR-CALDESC:Eventos para APAS
REFRESH-INTERVAL;VALUE=DURATION:PT1H
X-Robots-Tag:noindex
X-PUBLISHED-TTL:PT1H
BEGIN:VTIMEZONE
TZID:America/Sao_Paulo
BEGIN:STANDARD
TZOFFSETFROM:-0300
TZOFFSETTO:-0300
TZNAME:-03
DTSTART:20240101T000000
END:STANDARD
END:VTIMEZONE
BEGIN:VEVENT
DTSTART;VALUE=DATE:20241008
DTEND;VALUE=DATE:20241011
DTSTAMP:20260419T114148
CREATED:20240201T212204Z
LAST-MODIFIED:20240201T212204Z
UID:13671-1728345600-1728604799@apas.com.br
SUMMARY:FUTURECOM 2024
DESCRIPTION:
URL:https://apas.com.br/evento/futurecom-2024/
LOCATION:SÃO PAULO
END:VEVENT
BEGIN:VEVENT
DTSTART;VALUE=DATE:20241008
DTEND;VALUE=DATE:20241011
DTSTAMP:20260419T114148
CREATED:20240201T212230Z
LAST-MODIFIED:20240201T212230Z
UID:13673-1728345600-1728604799@apas.com.br
SUMMARY:FRUIT ATTRACTION
DESCRIPTION:
URL:https://apas.com.br/evento/fruit-attraction/
LOCATION:ESPANHA
END:VEVENT
BEGIN:VEVENT
DTSTART;VALUE=DATE:20241010
DTEND;VALUE=DATE:20241011
DTSTAMP:20260419T114148
CREATED:20240201T212320Z
LAST-MODIFIED:20240201T212320Z
UID:13679-1728518400-1728604799@apas.com.br
SUMMARY:REUNIÃO DO CONSELHO DE ADMINISTRAÇÃO
DESCRIPTION:
URL:https://apas.com.br/evento/reuniao-do-conselho-de-administracao-13/
LOCATION:APAS\, R. Pio XI\, 1200 - Alto da Lapa\, São Paulo\, São Paulo\, São Paulo\, 05060-001
END:VEVENT
BEGIN:VEVENT
DTSTART;VALUE=DATE:20241010
DTEND;VALUE=DATE:20241011
DTSTAMP:20260419T114148
CREATED:20240201T212345Z
LAST-MODIFIED:20240201T212345Z
UID:13681-1728518400-1728604799@apas.com.br
SUMMARY:REUNIÃO DE DIRETORIA REGIONAL
DESCRIPTION:
URL:https://apas.com.br/evento/reuniao-de-diretoria-regional-6/
LOCATION:APAS\, R. Pio XI\, 1200 - Alto da Lapa\, São Paulo\, São Paulo\, São Paulo\, 05060-001
END:VEVENT
BEGIN:VEVENT
DTSTART;VALUE=DATE:20241010
DTEND;VALUE=DATE:20241011
DTSTAMP:20260419T114148
CREATED:20240201T212412Z
LAST-MODIFIED:20240201T212412Z
UID:13683-1728518400-1728604799@apas.com.br
SUMMARY:REUNIÃO DA DIRETORIA DE RESPONSABILIDADE SOCIAL
DESCRIPTION:
URL:https://apas.com.br/evento/reuniao-da-diretoria-de-responsabilidade-social-12/
LOCATION:APAS\, R. Pio XI\, 1200 - Alto da Lapa\, São Paulo\, São Paulo\, São Paulo\, 05060-001
END:VEVENT
BEGIN:VEVENT
DTSTART;VALUE=DATE:20241010
DTEND;VALUE=DATE:20241011
DTSTAMP:20260419T114148
CREATED:20240201T212444Z
LAST-MODIFIED:20240201T212444Z
UID:13685-1728518400-1728604799@apas.com.br
SUMMARY:ENCONTRO COM SUPERMERCADISTAS DISTRITAL SUL
DESCRIPTION:
URL:https://apas.com.br/evento/encontro-com-supermercadistas-distrital-sul-5/
LOCATION:DISTRITAL SUL
END:VEVENT
BEGIN:VEVENT
DTSTART;VALUE=DATE:20241010
DTEND;VALUE=DATE:20241011
DTSTAMP:20260419T114148
CREATED:20240201T212642Z
LAST-MODIFIED:20240201T212642Z
UID:13687-1728518400-1728604799@apas.com.br
SUMMARY:ENCONTRO COM SUPERMERCADISTAS DREGIONAL GUARULHOS
DESCRIPTION:
URL:https://apas.com.br/evento/encontro-com-supermercadistas-dregional-guarulhos/
LOCATION:DISTRITAL SUL
END:VEVENT
BEGIN:VEVENT
DTSTART;VALUE=DATE:20241010
DTEND;VALUE=DATE:20241011
DTSTAMP:20260419T114148
CREATED:20240201T212702Z
LAST-MODIFIED:20240201T212702Z
UID:13689-1728518400-1728604799@apas.com.br
SUMMARY:CENÁRIOS
DESCRIPTION:
URL:https://apas.com.br/evento/cenarios/
END:VEVENT
END:VCALENDAR